BEGIN:VCALENDAR
VERSION:2.0
PRODID:-//Menomonee Falls Neighborhood Watch - MFNW - ECPv6.3.5//NONSGML v1.0//EN
CALSCALE:GREGORIAN
METHOD:PUBLISH
X-ORIGINAL-URL:http://www.mfnw.org
X-WR-CALDESC:Events for Menomonee Falls Neighborhood Watch - MFNW
REFRESH-INTERVAL;VALUE=DURATION:PT1H
X-Robots-Tag:noindex
X-PUBLISHED-TTL:PT1H
BEGIN:VTIMEZONE
TZID:America/Chicago
BEGIN:DAYLIGHT
TZOFFSETFROM:-0600
TZOFFSETTO:-0500
TZNAME:CDT
DTSTART:20240310T080000
END:DAYLIGHT
BEGIN:STANDARD
TZOFFSETFROM:-0500
TZOFFSETTO:-0600
TZNAME:CST
DTSTART:20241103T070000
END:STANDARD
END:VTIMEZONE
BEGIN:VEVENT
DTSTART;TZID=America/Chicago:20240420T123000
DTEND;TZID=America/Chicago:20240420T153000
DTSTAMP:20260424T004006
CREATED:20240416T174050Z
LAST-MODIFIED:20240416T174050Z
UID:1461-1713616200-1713627000@www.mfnw.org
SUMMARY:Battle of the Badges Charity Hockey Game - April 20\, 2024
DESCRIPTION:Do you remember “Battle of the Network Stars”? We have our own version!! Have fun and show your support for our local Police and Fire Dept! \nGames start at 12:30pm and 2pm. Stick around and watch the Admirals play Rockford at 6pm! \nThree hockey games for as low as $22/person. Funds raised going to a charity of their choice.
URL:http://www.mfnw.org/event/battle-of-the-badges-charity-hockey-game-april-20-2024/
LOCATION:UW-Milwaukee Panther Arena\, 400 W Kilbourn Ave\, Milwaukee\, WI\, 53203\, United States
CATEGORIES:Community Event
END:VEVENT
END:VCALENDAR