BEGIN:VCALENDAR
VERSION:2.0
PRODID:-//Menomonee Falls Neighborhood Watch - MFNW - ECPv6.3.5//NONSGML v1.0//EN
CALSCALE:GREGORIAN
METHOD:PUBLISH
X-WR-CALNAME:Menomonee Falls Neighborhood Watch - MFNW
X-ORIGINAL-URL:http://www.mfnw.org
X-WR-CALDESC:Events for Menomonee Falls Neighborhood Watch - MFNW
REFRESH-INTERVAL;VALUE=DURATION:PT1H
X-Robots-Tag:noindex
X-PUBLISHED-TTL:PT1H
BEGIN:VTIMEZONE
TZID:America/Chicago
BEGIN:DAYLIGHT
TZOFFSETFROM:-0600
TZOFFSETTO:-0500
TZNAME:CDT
DTSTART:20230312T080000
END:DAYLIGHT
BEGIN:STANDARD
TZOFFSETFROM:-0500
TZOFFSETTO:-0600
TZNAME:CST
DTSTART:20231105T070000
END:STANDARD
END:VTIMEZONE
BEGIN:VEVENT
DTSTART;TZID=America/Chicago:20230713T180000
DTEND;TZID=America/Chicago:20230713T190000
DTSTAMP:20260424T150453
CREATED:20230713T164206Z
LAST-MODIFIED:20230713T164313Z
UID:1380-1689271200-1689274800@www.mfnw.org
SUMMARY:General Membership Meeting 07/13/23 6:00pm
DESCRIPTION:OPEN TO PUBLIC. July 13th\, 2023 Village Hall Board Room 6:00pm – Bring your neighbor. \nGuest Speaker: Deb Schneider from Faith Advocates Against Human Trafficking. We are hoping for a good showing of Captains and other community members to hear about the harm caused to our youth by human trafficking. Please attend to hear this important information. \n 
URL:http://www.mfnw.org/event/general-membership-meeting-01-10-19-630pm-mfnw-general-membership-meeting-open-to-public-january-13th-2023-village-hall-board-room-600pm-bring-your-neighbor/
LOCATION:MFNW General Membership Meeting
CATEGORIES:MFNW Membership Meetings
END:VEVENT
END:VCALENDAR